Workbook

Sheet SIMAT
B3: N° | C3: NOMBRE MUNICIPIO | D3: CÓDIGO ESTABLECIMIENTO | E3: NOMBRE ESTABLECIMIENTO | F3: NOMBRE SEDE | G3: CÓDIGO SEDE | H3: MATRICULA
B4: 1 | C4: ARENAL | D4: 213473001580 | E4: I.E. EMA TRONCOSO RABELO | F4: CARNIZALA | G4: 213473000320 | H4: 57
B5: 2 | C5: ARENAL | D5: 213473001580 | E5: I.E. EMA TRONCOSO RABELO | F5: PRINCIPAL BUENAVISTA | G5: 213473001580 | H5: 462
B6: 3 | C6: ARENAL | D6: 213473001580 | E6: I.E. EMA TRONCOSO | F6: LOS PEÑONES | G6: 213042000039 | H6: 14
E7: RABELO
B8: 4 | C8: ARENAL | D8: 213473001580 | E8: I.E. EMA TRONCOSO | F8: TEQUENDAMA | G8: 213042000110 | H8: 9
E9: RABELO
B10: 5 | C10: ARENAL | D10: 213473001580 | E10: I.E. EMA TRONCOSO RABELO | F10: SAN RAFAEL | G10: 213473000117 | H10: 91
B11: 6 | C11: CANTAGALLO | D11: 213160000060 | E11: I.E. LA VICTORIA | F11: ARGELIA | G11: 213160001376 | H11: 8
B12: 7 | C12: CANTAGALLO | D12: 213160000060 | E12: I.E. LA VICTORIA | F12: EL CEDRO | G12: 213160000051 | H12: 6
B13: 8 | C13: CANTAGALLO | D13: 213160000060 | E13: I.E. LA VICTORIA | F13: LA GRANJA | G13: 213160001350 | H13: 9
B14: 9 | C14: CANTAGALLO | D14: 213160000060 | E14: I.E. LA VICTORIA | F14: EL DIAMANTE | G14: 213160001287 | H14: 28
B15: 10 | C15: CANTAGALLO | D15: 213160000060 | E15: I.E. LA VICTORIA | F15: LOS CORONCOROS | G15: 213160001317 | H15: 22
B16: 11 | C16: CANTAGALLO | D16: 213160000060 | E16: I.E. LA VICTORIA | F16: SANTO DOMINGO ALTO | G16: 213160000167 | H16: 19
B17: 12 | C17: CANTAGALLO | D17: 213160000060 | E17: I.E. LA VICTORIA | F17: LIMON ALTO | G17: 213670000994 | H17: 20
B18: 13 | C18: CANTAGALLO | D18: 213160000060 | E18: I.E. LA VICTORIA | F18: EL CAGUI | G18: 213670000641 | H18: 84
B19: 14 | C19: CANTAGALLO | D19: 213160000060 | E19: I.E. LA VICTORIA | F19: YANACUE | G19: 213670000986 | H19: 15
B20: 15 | C20: CANTAGALLO | D20: 213160000060 | E20: I.E. LA VICTORIA | F20: LA POZA | G20: 213160000043 | H20: 30
B21: 16 | C21: CANTAGALLO | D21: 213160000060 | E21: I.E. LA VICTORIA | F21: LA FLORESTA | G21: 213160001155 | H21: 9
... B44: 39 | C44: MORALES | D44: 213473000052 | E44: I.E. LA PALMA | F44: I.E. LA PALMA - SEDE | G44: 213473000052 | H44: 198
F45: PRINCIPAL
B46: 40 | C46: MORALES | D46: 213473000052 | E46: I.E. LA PALMA | F46: PUERTO RICO | G46: 213473001750 | H46: 19
E47: I. E. TECNICA AGROPECUARIA Y EMPRESARIAL POZO
B48: 41 | C48: SAN PABLO | D48: 213670000200 | E48: AZUL | F48: LA VIRGENCITA | G48: 213670000099 | H48: 23
E49: I. E. TECNICA AGROPECUARIA Y EMPRESARIAL POZO
B50: 42 | C50: SAN PABLO | D50: 213670000200 | E50: AZUL | F50: CAÑABRAVAL | G50: 213670001311 | H50: 38
B51: 43 | C51: SAN PABLO | D51: 213670000200 | E51: AZUL | F51: VALLECITO | G51: 213670000820 | H51: 24
B52: 44 | C52: SAN PABLO | D52: 213670000200 | E52: I. E. TECNICA AGROPECUARIA Y | F52: ALTO CAÑABRAVAL | G52: 213670000838 | H52: 27
E53: EMPRESARIAL POZO
E54: AZUL
B55: 45 | C55: SAN PABLO | D55: 213670000200 | E55: AZUL | F55: CERRO AZUL | G55: 213670001061 | H55: 37
B56: 46 | C56: SAN PABLO | D56: 213670000200 | E56: AZUL | F56: JUAN ALTO TARACUE | G56: 213670001087 | H56: 23
B57: 47 | C57: SAN PABLO | D57: 213670000200 | E57: AZUL | F57: AGUA SUCIA | G57: 213670001095 | H57: 9
B58: 48 | C58: SAN PABLO | D58: 213670000200 | E58: AZUL | F58: LAS COLINAS | G58: 213670001150 | H58: 1
B59: 49 | E59: I. E. TECNICA AGROPECUARIA Y EMPRESARIAL POZO
B60: 50 | C60: SAN PABLO | D60: 213670000200 | E60: AZUL | F60: ALTO BERLIN | G60: 213670000722 | H60: 16
B61: 51 | C61: SAN PABLO | D61: 213670000200 | E61: AZUL | F61: LA GOLONDRINA | G61: 213670000731 | H61: 7
B62: 52 | C62: SAN PABLO | D62: 213670000200 | E62: AZUL | F62: LA YE | G62: 213670000790 | H62: 22
B63: 53 | C63: SAN PABLO | D63: 213670000200 | E63: AZUL | F63: CAÑO FRIO | G63: 213670000854 | H63: 20
B64: 54 | C64: SAN PABLO | D64: 213670000200 | E64: AZUL | F64: LA FRIA | G64: 213670000927 | H64: 14
...

Sheet Cronograma Ajustado1
A1: CRONOGRAMA
A2: FORTALECIMIENTO INTEGRAL DE LA ACTIVIDAD FÍSICA, RECREACIÓN Y EL DEPORTE A TRAVÉS DE LA DOTACIÓN DE IMPLEMENTOS DEPORTIVOS Y PARQUES INFANTILES EN INSTITUCIONES EDUCATIVAS DE LOS MUNICIPIOS PDET DEL SUR DEL DEPARTAMENTO DE BOLÍVAR
A3: ITEM | B3: DESCRIPCION | C3: RESPONSABLE | D3: ETAPA CONTRACTUAL | AB3: EJECUCION | AT3: LIQUIDACION
D4: 45778 | E4: 45809 | I4: 45839 | M4: 45870 | Q4: 45901 | U4: 45931 | Y4: 45962 | AC4: 45992 | AG4: 46023 | AK4: 46054 | AO4: 46082 | AS4: 46113 | AW4: 46143
D5: SEM 4 | E5: SEM 5 | F5: SEM 6 | G5: SEM 7 | H5: SEM 8 | I5: SEM 9 | J5: SEM 10 | K5: SEM 11 | L5: SEM 12 | M5: SEM 13 | N5: SEM 14 | O5: SEM 15 | P5: SEM 16 | Q5: SEM 17 | R5: SEM 18 | S5: SEM 19 | T5: SEM 20 | U5: SEM 21 | V5: SEM 22 | W5: SEM 23 | X5: SEM 24 | Y5: SEM 25 | Z5: SEM 26 | AA5: SEM 27 | AB5: SEM 28 | AC5: SEM 29 | AD5: SEM 30 | AE5: SEM 31 | AF5: SEM 32 | AG5: SEM 33 | AH5: SEM 34 | AI5: SEM 35 | AJ5: SEM 36 | AK5: SEM 37 | AL5: SEM 38 | AM5: SEM 39 | AN5: SEM 40 | AO5: SEM 41 | AP5: SEM 42 | AQ5: SEM 43 | AR5: SEM 44 | AS5: SEM 45 | AT5: SEM 46 | AU5: SEM 47 | AV5: SEM 48 | AW5: SEM 49 | AX5: SEM 50 | AY5: SEM 51
A6: 1. CONSTITUCIÓN FIDUCIA
A7: 1.1 | B7: Constitución de fiducia | C7: CONTRIBUYENTE | D7: 45803
A8: 1.2 | B8: Deposito monto equivalente al proyecto de inversión | C8: CONTRIBUYENTE
A9: 1.3 | B9: Envío Certificación depósitos ART, MEN y DIAN | C9: FIDUCIA
A10: 1.4 | B10: Presentación Cronograma General ART y MEN | C10: CONTRIBUYENTE
A11: 1.5 | B11: Aprobación Cronograma ART y MEN | C11: ART y MEN
A12: 1.6 | B12: Elaboración de pliegos y términos de referencia para la contratación del Gerente por parte de la fiducia | C12: FIDUCIA
A13: 2. GERENCIA DEL PROYECTO
A14: 2.1 | B14: Preparación y apertura proceso de contratación gerencia del proyecto | C14: FIDUCIA
A15: 2.2 | B15: Cierre del proceso de selección de oferente para gerencia | C15: FIDUCIA
A16: 2.3 | B16: Verificación de requisitos y perfiles de oferentes para gerencia | C16: CONTRIBUYENTE
A17: 2.4 | B17: Emisión de Pólizas y firma del Contrato Gerencia del Proyecto | C17: FIDUCIA GERENCIA
A18: 2.5 | B18: Suscripcion acta de inicio contrato Gerencia del Proyecto | C18: FIDUCIA GERENCIA
A19: 3. INTERVENTORIA DEL PROYECTO | AB19: SESION DE INICIO
A20: 3.1 | B20: Revisión TdR interventoría | C20: FIDUCIA
A21: 3.2 | B21: Mesa de trabajo con el Ministerio para la aprobación de los Tdr de interventoría | C21: FIDUCIA
A22: 3.3 | B22: Designación supervisor del contrato MEN (Articulo 7 Decreto 2469) | C22: MEN
A23: 3.4 | B23: Aprobación Términos de referencia Interventoría por parte del MEN | C23: MEN
A24: 3.5 | B24: Preparacion y apertura proceso de licitacion Interventoria | C24: FIDUCIA
A25: 3.6 | B25: Cierre Proceso Licitación Interventoria | C25: FIDUCIA
A26: 3.7 | B26: Selección de Interventor | C26: FIDUCIA
A27: 3.8 | B27: Emisión de pólizas y firma contrato Interventoría | C27: FIDUCIA INTERVENTORIA
A28: 3.9 | B28: Suscripción acta de Inicio contrato Interventor | C28: FIDUCIA INTERVENTORIA
A29: 4. SELECCIÓN DE PROVEEDOR DOTACION IMPLEMNETOS DEPORTIVOS Y PARQUES INFANTILES
A30: 4.1 | B30: Apertura proceso de contratación de proveedores - Proveedor de elementos deportivos | C30: GERENCIA FIDUCIA
A31: 4.2 | B31: Cierre Proceso Licitacion Ejecutor del proyecto | C31: FIDUCIA
A32: 4.3 | B32: Verificación de requisitos para seleccionar de proveedores | C32: FIDUCIA
A33: 4.4 | B33: Selección de proveedores | C33: FIDUCIA
A34: 4.5 | B34: Emisión de pólizas y firma contrato proveedor Dotacion | C34: GERENCIA FIDUCIA
A35: 4.6 | B35: Suscripción Acta de Inicio Dotacion deportiva | C35: GERENCIA FIDUCIA
A36: 5. SELECCIÓN DE FORMACION DOCENTE
A37: 5.1 | B37: Apertura proceso de contratación de proveedores | C37: GERENCIA FIDUCIA
A38: 5.2 | B38: Cierre del proceso de selección de proveedores | C38: GERENCIA FIDUCIA
A39: 5.3 | B39: Verificación de requisitos para seleccionar de proveedores | C39: FIDUCIA
A40: 5.4 | B40: Selección de proveedores | C40: GERENCIA
...

Sheet CRONOGRAMA
B6: FORTALECIMIENTO INTEGRAL DE LA ACTIVIDAD FÍSICA, RECREACIÓN Y EL DEPORTE A TRAVÉS DE LA DOTACIÓN DE IMPLEMENTOS DEPORTIVOS Y PARQUES INFANTILES EN INSTITUCIONES EDUCATIVAS DE LOS MUNICIPIOS PDET DEL SUR DEL DEPARTAMENTO DE BOLÍVAR
B7: ACTIVIDADES | D7: RESPONSABLE | E7: ETAPA PRECONTRACTUAL Y CONTRACTUAL | AC7: EJECUCIÓN | AS7: LIQUIDACION
E8: MES 1 | I8: MES 2 | M8: MES 3 | Q8: MES 4 | U8: MES 5 | Y8: MES 6 | AC8: MES 7 | AG8: MES 8 | AK8: MES 9 | AO8: MES 10 | AS8: MES 11 | AW8: MES 12
E9: S1 | F9: S2 | G9: S3 | H9: S4 | I9: S5 | J9: S6 | K9: S7 | L9: S8 | M9: S9 | N9: S10 | O9: S11 | P9: S12 | Q9: S13 | R9: S14 | S9: S15 | T9: S16 | U9: S17 | V9: S18 | W9: S19 | X9: S20 | Y9: S21 | Z9: S22 | AA9: S23 | AB9: S24 | AC9: S25 | AD9: S26 | AE9: S27 | AF9: S28 | AG9: S29 | AH9: S30 | AI9: S31 | AJ9: S32 | AK9: S33 | AL9: S34 | AM9: S35 | AN9: S36 | AO9: S37 | AP9: S38 | AQ9: S39 | AR9: S40 | AS9: S41 | AT9: S42 | AU9: S43 | AV9: S44 | AW9: S45 | AX9: S46 | AY9: S47 | AZ9: S48
B10: 1. FIDUCIA
B11: 1.1 | C11: Constitución de Fiducia | D11: Contribuyente Fiducia
B12: 1.2 | C12: Deposito del valor del impuesto a Fiducia | D12: Contribuyente
B13: 1.3 | C13: Envío Certificación depósitos ART, MEN y DIAN | D13: Fiducia
B14: 1.4 | C14: Presentación Cronograma General ART y MEN | D14: Contribuyente
B15: 1.5 | C15: Aprobación Cronograma ART y MEN | D15: ART y MEN
B16: 1.6 | C16: Aprobación Cronograma General | D16: MEN
B17: 1.7 | C17: Elaboración de pliegos y términos de referencia para la contratación del Gerente por parte de la fiducia | D17: Fiducia
B18: 2. GERENCIA DEL PROYECTO
B19: 2.1 | C19: Preparacion Proceso Contratación Gerencia del Proyecto | D19: Contribuyente Fiducia
B20: 2.2 | C20: Apertura y Cierre Proceso Contratación Gerencia del Proyecto y verificación de requisitos | D20: Fiducia
B21: 2.3 | C21: Selección Gerente proyecto | D21: Contribuyente
B22: 2.4 | C22: Emisión de Pólizas y firma del Contrato Gerencia del Proyecto | D22: Fiducia Gerencia
B23: 2.5 | C23: Suscripción acta de inicio de Gerencia del Proyecto | D23: Fiducia Gerencia
B24: 3. INTERVENTORIA DEL PROYECTO | AC24: sesión de inico
B25: 3.1 | C25: Preparación Términos de referencia Interventoría | D25: Gerencia Fiducia
B26: 3.2 | C26: Designación supervisor del contrato MEN (Articulo 7 Decreto 2469) | D26: MEN
B27: 3.3 | C27: Elaboración y Aprobación Términos de referencia Interventoría por parte del MEN | D27: MEN
B28: 3.4 | C28: Apertura y Cierre Proceso Licitación Interventoria | D28: Fiducia
B29: 3.5 | C29: Selección de Interventor | D29: Gerencia
B30: 3.6 | C30: Emisión de pólizas y firma Contrato Interventoría | D30: Fiducia Interventoria
B31: 3.7 | C31: Suscripción Acta de Inicio Interventor | D31: Fiducia Interventoria
B32: 4. SELECCIÓN DE PROVEEDORES DOTACION IMPLEMNETOS DEPORTIVOS Y PARQUES INFANTILES
B33: 4.1 | C33: Preparacion de proceso de Licitación Privada Abierta de Proveedor | D33: Gerencia Fiducia
B34: 4.2 | C34: Apertura y Cierre Proceso Licitacion Ejecutor del proyecto | D34: Fiducia
B35: 4.3 | C35: Selección de Proveedor | D35: Gerencia
B36: 4.4 | C36: Suscripción de pólizas y firma contrato Proveedor | D36: Fiducia Proveedor
B37: 4.6 | C37: Acta de inicio Proveedor | D37: Fiducia
B38: 6. EJECUCION DOTACION IMPLEMNETOS DEPORTIVOS Y PARQUES INFANTILES
B39: 6.1 | C39: Concertación con el proveedor el cronograma de actividades, producción, despacho y entregas | D39: Gerencia Proveedor Interventoria
B40: 6.2 | C40: Aprobación de especificaciones técnicas de dotación deportiva y parques infantiles | D40: Gerencia Interventoria
B41: 6.3 | C41: Proceso de compra de Dotacion deportiva y parques infantiles | D41: Proveedor
B42: 6.4 | C42: Verificación de especificaciones técnicas y calidad en instalaciones del proveedor | D42: Interventoria
B43: 6.5 | C43: Entrega de dotación a Sedes Educativas | D43: Proveedor
B44: 6.6 | C44: Verificacion de entregas en Sitio | D44: Interventoria | AJ44: 1 | AK44: 1 | AL44: 1 | AM44: 1 | AR44: 1
B45: 6.11 | C45: Comité de Seguimiento Mensual | D45: Gerencia Interventoria Supervision MEN
...

Sheet DIAG CONSOLIDADO
D1: FORTALECIMIENTO INTEGRAL DE LA ACTIVIDAD FÍSICA, RECREACIÓN Y EL DEPORTE A TRAVÉS DE LA DOTACIÓN DE IMPLEMENTOS DEPORTIVOS Y PARQUES INFANTILES EN INSTITUCIONES EDUCATIVAS DE LOS MUNICIPIOS PDET DEL SUR DEL DEPARTAMENTO DE BOLÍVAR | Q1: FORTALECIMIENTO INTEGRAL DE LA ACTIVIDAD FÍSICA, RECREACIÓN Y EL DEPORTE A TRAVÉS DE LA DOTACIÓN DE IMPLEMENTOS DEPORTIVOS Y PARQUES INFANTILES EN INSTITUCIONES EDUCATIVAS DE LOS MUNICIPIOS PDET DEL SUR DEL DEPARTAMENTO DE BOLÍVAR | AH1: FORTALECIMIENTO INTEGRAL DE LA ACTIVIDAD FÍSICA, RECREACIÓN Y EL DEPORTE A TRAVÉS DE LA DOTACIÓN DE IMPLEMENTOS DEPORTIVOS Y PARQUES INFANTILES EN INSTITUCIONES EDUCATIVAS DE LOS MUNICIPIOS PDET DEL SUR DEL DEPARTAMENTO DE BOLÍVAR
A5: # | B5: I.D. | C5: INSTITUCION EDUCATIVA | E5: SEDE EDUCATIVA | F5: LOCALIZACIÓN | I5: TIPO DE JORNADA | J5: NÚMERO AULAS | K5: TOTAL DOCENTES | L5: TOTAL DE ESTUDIANTES | M5: {=+TRANSPOSE(B112:B141)} -> Cancha Multifuncional (Juego x 2) | N5: Juego X 2 Malla Futsala | O5: Tablero Acrílico Baloncesto x2 | P5: Aro metálico en Varilla 45 cm | Q5: Malla Baloncesto | R5: Tubos con Medidas Reglamentarias para Voleibol (x2) | S5: Malla Voleibol | T5: Pito Plástico Tipo Silbato | U5: Cronometro Digital Electrónico m025 | V5: Conos Plásticos 40 cm | W5: Chaleco de Entrenamiento (Tipo Peto) | X5: (paqu x 12) Ula Ula Plano en Plástico 50 cm | Y5: Cuerda de Saltar – Mango de Madera | Z5: Colchoneta Ejercicio con Cremallera | AA5: Balón Tipo 3 Futbol menores de 9 años | AB5: Balón Fútbol Sala | AC5: Balón tipo 5 Fútbol Mayores de 12 años | AD5: Balon Mini Baloncesto No. 3 Menores de 8 años | AE5: Balon Mini Baloncesto No. 5 entre 9 y 12 años | AF5: Balon de Baloncesto No.6 Niños Mayores de 13 años | AG5: Balón de Baloncesto No.7 Niñas Mayores de 13 años | AH5: Balón de Minivoleibol Menores de 13 años | AI5: Balón de Voleibol Mayores de 13 años | AJ5: Tula Balonera en Malla con Reata para Cargar Capacidad 12 | AK5: Paquete por 6 Unidades Bolas Tenis de Mesa | AL5: Malla de Tenis de Mesa | AM5: Raqueta Tenis de mesa (2 Unidades) | AN5: Mesa de Tenis Peglable | AO5: Marcador de Resultados Portatíl del 00 al 33 | AP5: Parques infantiles | AQ5: TOTAL
C6: CÓDIGO DANE IE | D6: SEDE EDUCATIVA | F6: COORDENADA | H6: RURAL /URBANO | M6: NECESIDAD | N6: NECESIDAD | O6: NECESIDAD | P6: NECESIDAD | Q6: NECESIDAD | R6: NECESIDAD | S6: NECESIDAD | T6: NECESIDAD | U6: NECESIDAD | V6: NECESIDAD | W6: NECESIDAD | X6: NECESIDAD | Y6: NECESIDAD | Z6: NECESIDAD | AA6: NECESIDAD | AB6: NECESIDAD | AC6: NECESIDAD | AD6: NECESIDAD | AE6: NECESIDAD | AF6: NECESIDAD | AG6: NECESIDAD | AH6: NECESIDAD | AI6: NECESIDAD | AJ6: NECESIDAD | AK6: NECESIDAD | AL6: NECESIDAD | AM6: NECESIDAD | AN6: NECESIDAD | AO6: NECESIDAD | AP6: NECESIDAD
A7: 1 | B7: EMA TRONCOSO RABELO | C7: 213473001580 | D7: =+C111 -> SAN RAFAEL | E7: 213473000117 | F7: 8.2347103 | G7: -74.293507 | H7: Rural | I7: Mañana | L7: 91 | M7: {=+TRANSPOSE(C112:C140)} -> 1 | N7: 1 | O7: 1 | P7: 2 | Q7: 1 | R7: 1 | S7: 2 | T7: 3 | U7: 3 | V7: 24 | W7: 24 | X7: 10 | Y7: 24 | Z7: 24 | AA7: 5 | AB7: 5 | AC7: 5 | AD7: 5 | AE7: 5 | AF7: 5 | AG7: 5 | AH7: 5 | AI7: 5 | AJ7: 4 | AK7: 3 | AL7: 1 | AM7: 3 | AN7: 1 | AO7: 1 | AP7: 1 | AQ7: =+SUM(M7:AP7) -> 180
A8: 2 | D8: =+D111 -> PEÑONES | E8: 213042000039 | F8: 8.440838 | G8: -73.900042 | H8: Rural | I8: Mañana | L8: 14 | M8: {=+TRANSPOSE(D112:D140)} -> 0 | N8: 0 | O8: 0 | P8: 0 | Q8: 0 | R8: 0 | S8: 0 | T8: 1 | U8: 1 | V8: 24 | W8: 12 | X8: 2 | Y8: 14 | Z8: 14 | AA8: 2 | AB8: 0 | AC8: 1 | AD8: 0 | AE8: 0 | AF8: 0 | AG8: 0 | AH8: 0 | AI8: 0 | AJ8: 1 | AK8: 0 | AL8: 0 | AM8: 0 | AN8: 0 | AO8: 0 | AP8: 1 | AQ8: =+SUM(M8:AP8) -> 73
A9: 3 | D9: SEDE PRINCIPAL | E9: 213473001580 | F9: 8.2347103 | G9: -74.293507 | H9: Rural | I9: Mañana / Fin de Semana | L9: 462 | M9: {=+TRANSPOSE(E112:E140)} -> 1 | N9: 1 | O9: 1 | P9: 2 | Q9: 2 | R9: 2 | S9: 2 | T9: 2 | U9: 2 | V9: 48 | W9: 48 | X9: 30 | Y9: 48 | Z9: 48 | AA9: 10 | AB9: 10 | AC9: 10 | AD9: 10 | AE9: 10 | AF9: 10 | AG9: 10 | AH9: 10 | AI9: 10 | AJ9: 8 | AK9: 3 | AL9: 2 | AM9: 8 | AN9: 2 | AO9: 2 | AP9: 1 | AQ9: =+SUM(M9:AP9) -> 353
A10: 4 | D10: =+F111 -> TEQUENDAMA | E10: 213042000110 | F10: 8.4103145 | G10: -73.877482 | H10: Rural | I10: Mañana | L10: 9 | M10: {=+TRANSPOSE(F112:F140)} -> 0 | N10: 0 | O10: 0 | P10: 0 | Q10: 0 | R10: 0 | S10: 0 | T10: 1 | U10: 1 | V10: 24 | W10: 12 | X10: 1 | Y10: 10 | Z10: 10 | AA10: 1 | AB10: 0 | AC10: 1 | AD10: 0 | AE10: 0 | AF10: 0 | AG10: 0 | AH10: 0 | AI10: 0 | AJ10: 1 | AK10: 0 | AL10: 0 | AM10: 0 | AN10: 0 | AO10: 0 | AP10: 0 | AQ10: =+SUM(M10:AP10) -> 62
A11: 5 | D11: CARNIZALA | E11: 213473000320 | F11: 8.2347103 | G11: -74.293507 | H11: Rural | I11: Mañana | L11: 57 | M11: {=+TRANSPOSE(G112:G140)} -> 1 | N11: 1 | O11: 1 | P11: 2 | Q11: 1 | R11: 1 | S11: 2 | T11: 2 | U11: 1 | V11: 24 | W11: 12 | X11: 5 | Y11: 15 | Z11: 15 | AA11: 2 | AB11: 2 | AC11: 2 | AD11: 2 | AE11: 2 | AF11: 2 | AG11: 2 | AH11: 2 | AI11: 2 | AJ11: 2 | AK11: 3 | AL11: 1 | AM11: 2 | AN11: 1 | AO11: 1 | AP11: 1 | AQ11: =+SUM(M11:AP11) -> 112
A12: SUBTOTAL | L12: =SUM(L7:L11) -> 633 | M12: =SUM(M7:M11) -> 3 | N12: =SUM(N7:N11) -> 3 | O12: =SUM(O7:O11) -> 3 | P12: =SUM(P7:P11) -> 6 | Q12: =SUM(Q7:Q11) -> 4 | R12: =SUM(R7:R11) -> 4 | S12: =SUM(S7:S11) -> 6 | ... AP12: =SUM(AP7:AP11) -> 4
A13: 6 | B13: LA PALMA | C13: 213473000052 | D13: =+H111 -> BOCA DE LA HONDA | E13: 213473000354 | F13: 8.3765305 | G13: -73.877866 | H13: Rural | I13: Mañana / Fin de Semana | L13: 396 | M13: {=+TRANSPOSE(H112:H140)} -> 0 | N13: 0 | O13: 0 | P13: 0 | Q13: 0 | R13: 0 | S13: 0 | T13: 3 | U13: 3 | V13: 36 | W13: 36 | X13: 15 | Y13: 36 | Z13: 36 | AA13: 5 | AB13: 5 | AC13: 5 | AD13: 0 | AE13: 0 | AF13: 0 | AG13: 0 | AH13: 0 | AI13: 0 | AJ13: 2 | AK13: 3 | AL13: 1 | AM13: 4 | AN13: 1 | AO13: 2 | AP13: 1 | AQ13: =+SUM(M13:AP13) -> 194
A14: 7 | D14: GARAVITAS | E14: 213473001008 | F14: 8.4686625 | G14: -73.877763 | H14: Rural | I14: Mañana / Fin de Semana | L14: 24 | M14: {=+TRANSPOSE(I112:I140)} -> 0 | N14: 0 | O14: 0 | P14: 0 | Q14: 0 | R14: 0 | S14: 0 | T14: 2 | U14: 2 | V14: 36 | W14: 24 | X14: 10 | Y14: 24 | Z14: 24 | AA14: 4 | AB14: 4 | AC14: 4 | AD14: 0 | AE14: 0 | AF14: 0 | AG14: 0 | AH14: 0 | AI14: 0 | AJ14: 1 | AK14: 2 | AL14: 1 | AM14: 2 | AN14: 1 | AO14: 1 | AP14: 1 | AQ14: =+SUM(M14:AP14) -> 143
A15: 8 | D15: =+J111 -> PUERTO RICO | E15: 213473001750 | F15: 8.2766224 | G15: -73.869066 | H15: Rural | I15: Mañana | L15: 19 | M15: {=+TRANSPOSE(J112:J140)} -> 0 | N15: 0 | O15: 0 | P15: 0 | Q15: 0 | R15: 0 | S15: 0 | T15: 1 | U15: 1 | V15: 24 | W15: 12 | X15: 2 | Y15: 19 | Z15: 19 | AA15: 1 | AB15: 1 | AC15: 1 | AD15: 0 | AE15: 0 | AF15: 0 | AG15: 0 | AH15: 0 | AI15: 0 | AJ15: 1 | AK15: 0 | AL15: 0 | AM15: 0 | AN15: 0 | AO15: 1 | AP15: 1 | AQ15: =+SUM(M15:AP15) -> 84
A16: 9 | D16: =+K111 -> SIMOHA | E16: 213473001733 | F16: 8.2759858 | G16: -73.895903 | H16: Rural | I16: Mañana | L16: 7 | M16: {=+TRANSPOSE(K112:K140)} -> 0 | N16: 0 | O16: 0 | P16: 0 | Q16: 0 | R16: 0 | S16: 0 | T16: 1 | U16: 1 | V16: 24 | W16: 12 | X16: 1 | Y16: 7 | Z16: 7 | AA16: 1 | AB16: 1 | AC16: 1 | AD16: 0 | AE16: 0 | AF16: 0 | AG16: 0 | AH16: 0 | AI16: 0 | AJ16: 1 | AK16: 0 | AL16: 0 | AM16: 0 | AN16: 0 | AO16: 1 | AP16: 0 | AQ16: =+SUM(M16:AP16) -> 58
A17: 10 | D17: =+L111 -> LA PALMA PRINCIPAL | E17: 213473000052 | F17: 8.4685887 | G17: -73.877873 | H17: Rural | I17: Mañana / Fin de Semana | L17: 198 | M17: {=+TRANSPOSE(L112:L140)} -> 1 | N17: 1 | O17: 1 | P17: 2 | Q17: 2 | R17: 2 | S17: 1 | T17: 2 | U17: 2 | V17: 36 | W17: 24 | X17: 10 | Y17: 24 | Z17: 24 | AA17: 4 | AB17: 4 | AC17: 4 | AD17: 4 | AE17: 4 | AF17: 4 | AG17: 4 | AH17: 4 | AI17: 4 | AJ17: 3 | AK17: 2 | AL17: 1 | AM17: 2 | AN17: 1 | AO17: 2 | AP17: 1 | AQ17: =+SUM(M17:AP17) -> 180
A18: 11 | D18: =+M111 -> LA ARCADIA | E18: 213473000788 | F18: 8.4685652 | G18: -73.877728 | H18: Rural | I18: Mañana / nocturna | L18: 41 | M18: {=+TRANSPOSE(M112:M140)} -> 0 | N18: 0 | O18: 0 | P18: 0 | Q18: 0 | R18: 0 | S18: 0 | T18: 1 | U18: 1 | V18: 24 | W18: 24 | X18: 5 | Y18: 24 | Z18: 24 | AA18: 3 | AB18: 3 | AC18: 3 | AD18: 0 | AE18: 0 | AF18: 0 | AG18: 0 | AH18: 0 | AI18: 0 | AJ18: 1 | AK18: 2 | AL18: 1 | AM18: 1 | AN18: 1 | AO18: 1 | AP18: 1 | AQ18: =+SUM(M18:AP18) -> 120
A19: 12 | D19: =+N111 -> LA ESMERALDA | E19: 213473000079 | F19: 8.330561 | G19: -73.86643 | H19: Rural | I19: Mañana / Fin de Semana | L19: 148 | M19: {=+TRANSPOSE(N112:N140)} -> 0 | N19: 0 | O19: 0 | P19: 0 | Q19: 0 | R19: 0 | S19: 0 | T19: 2 | U19: 2 | V19: 36 | W19: 36 | X19: 10 | Y19: 24 | Z19: 24 | AA19: 4 | AB19: 4 | AC19: 4 | AD19: 0 | AE19: 0 | AF19: 0 | AG19: 0 | AH19: 0 | AI19: 0 | AJ19: 1 | AK19: 3 | AL19: 1 | AM19: 2 | AN19: 1 | AO19: 1 | AP19: 1 | AQ19: =+SUM(M19:AP19) -> 156
A20: 13 | D20: =+O111 -> LA HORNILLA | E20: 213473001016 | F20: 8.3471853 | G20: -73.883536 | H20: Rural | I20: Mañana | L20: 10 | M20: {=+TRANSPOSE(O112:O140)} -> 0 | N20: 0 | O20: 0 | P20: 0 | Q20: 0 | R20: 0 | S20: 0 | T20: 1 | U20: 1 | V20: 24 | W20: 12 | X20: 1 | Y20: 10 | Z20: 10 | AA20: 1 | AB20: 1 | AC20: 1 | AD20: 0 | AE20: 0 | AF20: 0 | AG20: 0 | AH20: 0 | AI20: 0 | AJ20: 1 | AK20: 0 | AL20: 0 | AM20: 0 | AN20: 0 | AO20: 0 | AP20: 1 | AQ20: =+SUM(M20:AP20) -> 64
A21: 14 | D21: =+P111 -> SIMOHITA | E21: 213473001385 | F21: 8.303061 | G21: -73.902818 | H21: Rural | I21: Mañana / Fin de Semana | L21: 58 | M21: {=+TRANSPOSE(P112:P140)} -> 0 | N21: 0 | O21: 0 | P21: 0 | Q21: 0 | R21: 0 | S21: 0 | T21: 1 | U21: 1 | V21: 24 | W21: 24 | X21: 5 | Y21: 24 | Z21: 24 | AA21: 3 | AB21: 3 | AC21: 3 | AD21: 0 | AE21: 0 | AF21: 0 | AG21: 0 | AH21: 0 | AI21: 0 | AJ21: 1 | AK21: 2 | AL21: 1 | AM21: 1 | AN21: 1 | AO21: 1 | AP21: 1 | AQ21: =+SUM(M21:AP21) -> 120
A22: SUBTOTAL | L22: =SUM(L13:L21) -> 901 | M22: =SUM(M13:M21) -> 1 | N22: =SUM(N13:N21) -> 1 | O22: =SUM(O13:O21) -> 1 | P22: =SUM(P13:P21) -> 2 | Q22: =SUM(Q13:Q21) -> 2 | R22: =SUM(R13:R21) -> 2 | S22: =SUM(S13:S21) -> 1 | ... AP22: =SUM(AP13:AP21) -> 8
A23: 15 | B23: LA VICTORIA - CANTAGALLO | C23: 213160000060 | D23: {=+TRANSPOSE(Q111:AH111)} -> EL CAGUI | E23: 213670000641 | F23: 7.2128772 | G23: -74.057547 | H23: Rural | I23: Mañana | L23: 84 | M23: {=+TRANSPOSE(Q112:Q140)} -> 1 | N23: 1 | O23: 1 | P23: 2 | Q23: 1 | R23: 1 | S23: 2 | T23: 2 | U23: 1 | V23: 24 | W23: 12 | X23: 5 | Y23: 15 | Z23: 15 | AA23: 2 | AB23: 2 | AC23: 2 | AD23: 2 | AE23: 2 | AF23: 2 | AG23: 2 | AH23: 2 | AI23: 2 | AJ23: 2 | AK23: 3 | AL23: 1 | AM23: 2 | AN23: 1 | AO23: 1 | AP23: 1 | AQ23: =+SUM(M23:AP23) -> 112
A24: 16 | D24: LA GRANJA | E24: 213160001350 | F24: 7.3991176 | G24: -73.924559 | H24: Rural | I24: Mañana | L24: 9 | M24: {=+TRANSPOSE(R112:R140)} -> 0 | N24: 0 | O24: 0 | P24: 0 | Q24: 0 | R24: 0 | S24: 0 | T24: 1 | U24: 1 | V24: 24 | W24: 12 | X24: 1 | Y24: 10 | Z24: 10 | AA24: 1 | AB24: 1 | AC24: 1 | AD24: 0 | AE24: 0 | AF24: 0 | AG24: 0 | AH24: 0 | AI24: 0 | AJ24: 1 | AK24: 0 | AL24: 0 | AM24: 0 | AN24: 0 | AO24: 1 | AP24: 0 | AQ24: =+SUM(M24:AP24) -> 64
A25: 17 | D25: EL DIAMANTE | E25: 213160001287 | F25: 7.2444779 | G25: -74.007575 | H25: Rural | I25: Mañana | L25: 28 | M25: {=+TRANSPOSE(S112:S140)} -> 0 | N25: 0 | O25: 0 | P25: 0 | Q25: 0 | R25: 0 | S25: 0 | T25: 1 | U25: 1 | V25: 24 | W25: 12 | X25: 2 | Y25: 24 | Z25: 24 | AA25: 1 | AB25: 1 | AC25: 1 | AD25: 0 | AE25: 0 | AF25: 0 | AG25: 0 | AH25: 0 | AI25: 0 | AJ25: 1 | AK25: 0 | AL25: 0 | AM25: 0 | AN25: 0 | AO25: 1 | AP25: 1 | AQ25: =+SUM(M25:AP25) -> 94
A26: 18 | D26: EL FIRME | E26: 213160001341 | F26: 7.3994745 | G26: -73.958537 | H26: Rural | I26: Mañana | L26: 11 | M26: {=+TRANSPOSE(T112:T140)} -> 0 | N26: 0 | O26: 0 | P26: 0 | Q26: 0 | R26: 0 | S26: 0 | T26: 1 | U26: 1 | V26: 24 | W26: 12 | X26: 1 | Y26: 11 | Z26: 11 | AA26: 1 | AB26: 1 | AC26: 1 | AD26: 0 | AE26: 0 | AF26: 0 | AG26: 0 | AH26: 0 | AI26: 0 | AJ26: 1 | AK26: 0 | AL26: 0 | AM26: 0 | AN26: 0 | AO26: 1 | AP26: 1 | AQ26: =+SUM(M26:AP26) -> 67
A27: 19 | D27: LIMON ALTO | E27: 213670000994 | F27: 7.2128772 | G27: -74.057547 | H27: Rural | I27: Mañana / Tarde | L27: 20 | M27: {=+TRANSPOSE(U112:U140)} -> 0 | N27: 0 | O27: 0 | P27: 0 | Q27: 0 | R27: 0 | S27: 0 | T27: 1 | U27: 1 | V27: 24 | W27: 12 | X27: 2 | Y27: 24 | Z27: 20 | AA27: 1 | AB27: 1 | AC27: 1 | AD27: 0 | AE27: 0 | AF27: 0 | AG27: 0 | AH27: 0 | AI27: 0 | AJ27: 1 | AK27: 0 | AL27: 0 | AM27: 0 | AN27: 0 | AO27: 1 | AP27: 1 | AQ27: =+SUM(M27:AP27) -> 90
A28: 20 | D28: EL PORVENIR | E28: 213160800015 | F28: 7.3719204 | G28: -73.940691 | H28: Rural | I28: Mañana | L28: 10 | M28: {=+TRANSPOSE(V112:V140)} -> 0 | N28: 0 | O28: 0 | P28: 0 | Q28: 0 | R28: 0 | S28: 0 | T28: 2 | U28: 2 | V28: 24 | W28: 20 | X28: 20 | Y28: 20 | Z28: 10 | AA28: 3 | AB28: 3 | AC28: 3 | AD28: 3 | AE28: 3 | AF28: 3 | AG28: 3 | AH28: 3 | AI28: 3 | AJ28: 1 | AK28: 2 | AL28: 1 | AM28: 2 | AN28: 1 | AO28: 2 | AP28: 1 | AQ28: =+SUM(M28:AP28) -> 135
A29: 21 | D29: LA FLORESTA | E29: 213160001155 | F29: 7.3510763 | G29: -74.040914 | H29: Rural | I29: Mañana | L29: 9 | M29: {=+TRANSPOSE(W112:W140)} -> 1 | N29: 1 | O29: 2 | P29: 2 | Q29: 2 | R29: 2 | S29: 1 | T29: 1 | U29: 1 | V29: 24 | W29: 12 | X29: 1 | Y29: 10 | Z29: 10 | AA29: 1 | AB29: 1 | AC29: 1 | AD29: 1 | AE29: 1 | AF29: 1 | AG29: 1 | AH29: 1 | AI29: 1 | AJ29: 1 | AK29: 0 | AL29: 0 | AM29: 0 | AN29: 0 | AO29: 1 | AP29: 0 | AQ29: =+SUM(M29:AP29) -> 81
A30: 22 | D30: LA FORTUNA | E30: 213160800031 | F30: 7.3719204 | G30: -73.940691 | H30: Rural | I30: Mañana | L30: 12 | M30: {=+TRANSPOSE(X112:X140)} -> 1 | N30: 1 | O30: 2 | P30: 2 | Q30: 2 | R30: 2 | S30: 1 | T30: 1 | U30: 1 | V30: 24 | W30: 12 | X30: 1 | Y30: 12 | Z30: 12 | AA30: 1 | AB30: 1 | AC30: 1 | AD30: 1 | AE30: 1 | AF30: 1 | AG30: 1 | AH30: 1 | AI30: 1 | AJ30: 1 | AK30: 0 | AL30: 0 | AM30: 0 | AN30: 0 | AO30: 1 | AP30: 1 | AQ30: =+SUM(M30:AP30) -> 86
A31: 23 | D31: LA PALUA | E31: 213160000094 | F31: 7.3644251 | G31: -73.983307 | H31: Rural | I31: Mañana | L31: 8 | M31: {=+TRANSPOSE(Y112:Y140)} -> 1 | N31: 1 | O31: 2 | P31: 2 | Q31: 2 | R31: 2 | S31: 1 | T31: 1 | U31: 1 | V31: 24 | W31: 12 | X31: 1 | Y31: 10 | Z31: 10 | AA31: 1 | AB31: 1 | AC31: 1 | AD31: 1 | AE31: 1 | AF31: 1 | AG31: 1 | AH31: 1 | AI31: 1 | AJ31: 1 | AK31: 0 | AL31: 0 | AM31: 0 | AN31: 0 | AO31: 1 | AP31: 0 | AQ31: =+SUM(M31:AP31) -> 81
A32: 24 | D32: LA PEÑA | E32: 213160000132 | F32: 7.357136 | G32: -73.951218 | H32: Rural | I32: Mañana | L32: 17 | M32: {=+TRANSPOSE(Z112:Z140)} -> 1 | N32: 1 | O32: 2 | P32: 2 | Q32: 2 | R32: 2 | S32: 1 | T32: 1 | U32: 1 | V32: 24 | W32: 12 | X32: 2 | Y32: 17 | Z32: 17 | AA32: 1 | AB32: 1 | AC32: 1 | AD32: 1 | AE32: 1 | AF32: 1 | AG32: 1 | AH32: 1 | AI32: 1 | AJ32: 1 | AK32: 0 | AL32: 0 | AM32: 0 | AN32: 0 | AO32: 1 | AP32: 1 | AQ32: =+SUM(M32:AP32) -> 97
A33: 25 | D33: LA POZA | E33: 213160000043 | F33: 7.3144609 | G33: -73.992475 | H33: Rural | I33: Mañana | L33: 30 | M33: {=+TRANSPOSE(AA112:AA140)} -> 1 | N33: 1 | O33: 2 | P33: 2 | Q33: 2 | R33: 2 | S33: 1 | T33: 1 | U33: 1 | V33: 24 | W33: 12 | X33: 3 | Y33: 30 | Z33: 30 | AA33: 1 | AB33: 1 | AC33: 1 | AD33: 1 | AE33: 1 | AF33: 1 | AG33: 1 | AH33: 1 | AI33: 1 | AJ33: 2 | AK33: 1 | AL33: 1 | AM33: 2 | AN33: 1 | AO33: 1 | AP33: 1 | AQ33: =+SUM(M33:AP33) -> 130
A34: 26 | D34: CORONCOROS | E34: 213160001317 | F34: 7.3404401 | G34: -73.960393 | H34: Rural | I34: Mañana | L34: 22 | M34: {=+TRANSPOSE(AB112:AB140)} -> 0 | N34: 0 | O34: 0 | P34: 0 | Q34: 0 | R34: 0 | S34: 0 | T34: 1 | U34: 1 | V34: 24 | W34: 12 | X34: 2 | Y34: 24 | Z34: 22 | AA34: 1 | AB34: 1 | AC34: 1 | AD34: 0 | AE34: 0 | AF34: 0 | AG34: 0 | AH34: 0 | AI34: 0 | AJ34: 1 | AK34: 0 | AL34: 0 | AM34: 0 | AN34: 0 | AO34: 1 | AP34: 1 | AQ34: =+SUM(M34:AP34) -> 92
A35: 27 | D35: MURIBA | E35: 213160001279 | F35: 7.3363712 | G35: -73.973171 | H35: Rural | I35: Mañana | L35: 26 | M35: {=+TRANSPOSE(AC112:AC140)} -> 1 | N35: 1 | O35: 2 | P35: 2 | Q35: 2 | R35: 2 | S35: 1 | T35: 1 | U35: 1 | V35: 24 | W35: 12 | X35: 3 | Y35: 26 | Z35: 26 | AA35: 1 | AB35: 1 | AC35: 1 | AD35: 1 | AE35: 1 | AF35: 1 | AG35: 1 | AH35: 1 | AI35: 1 | AJ35: 1 | AK35: 0 | AL35: 0 | AM35: 0 | AN35: 0 | AO35: 1 | AP35: 1 | AQ35: =+SUM(M35:AP35) -> 116
A36: 28 | D36: NO HAY COMO DIOS | E36: 213160001333 | F36: 7.2465322 | G36: -74.024506 | H36: Rural | I36: Mañana | L36: 7 | M36: {=+TRANSPOSE(AD112:AD140)} -> 0 | N36: 0 | O36: 0 | P36: 0 | Q36: 0 | R36: 0 | S36: 0 | T36: 1 | U36: 1 | V36: 24 | W36: 12 | X36: 1 | Y36: 7 | Z36: 7 | AA36: 1 | AB36: 1 | AC36: 1 | AD36: 0 | AE36: 0 | AF36: 0 | AG36: 0 | AH36: 0 | AI36: 0 | AJ36: 1 | AK36: 0 | AL36: 0 | AM36: 0 | AN36: 0 | AO36: 1 | AP36: 0 | AQ36: =+SUM(M36:AP36) -> 58
A37: 29 | D37: PATIO BONITO | E37: 213160001254 | F37: 7.4288133 | G37: -73.918562 | H37: Rural | I37: Mañana | L37: 16 | M37: {=+TRANSPOSE(AE112:AE140)} -> 0 | N37: 0 | O37: 0 | P37: 0 | Q37: 0 | R37: 0 | S37: 0 | T37: 1 | U37: 1 | V37: 24 | W37: 12 | X37: 2 | Y37: 16 | Z37: 16 | AA37: 1 | AB37: 1 | AC37: 1 | AD37: 0 | AE37: 0 | AF37: 0 | AG37: 0 | AH37: 0 | AI37: 0 | AJ37: 1 | AK37: 0 | AL37: 0 | AM37: 0 | AN37: 0 | AO37: 1 | AP37: 1 | AQ37: =+SUM(M37:AP37) -> 78
A38: 30 | D38: SEDE PRINCIPAL | E38: 213160000060 | F38: 7.3434998 | G38: -74.016289 | H38: Rural | I38: Mañana | L38: 159 | M38: {=+TRANSPOSE(AF112:AF140)} -> 1 | N38: 1 | O38: 1 | P38: 2 | Q38: 2 | R38: 2 | S38: 1 | T38: 2 | U38: 2 | V38: 36 | W38: 24 | X38: 10 | Y38: 24 | Z38: 24 | AA38: 4 | AB38: 4 | AC38: 4 | AD38: 4 | AE38: 4 | AF38: 4 | AG38: 4 | AH38: 4 | AI38: 4 | AJ38: 3 | AK38: 2 | AL38: 1 | AM38: 2 | AN38: 1 | AO38: 2 | AP38: 1 | AQ38: =+SUM(M38:AP38) -> 180
A39: 31 | D39: SAN JUAN MEDIO | E39: 213160001368 | F39: 7.3355146 | G39: -73.949686 | H39: Rural | I39: Mañana | L39: 103 | M39: {=+TRANSPOSE(AG112:AG140)} -> 0 | N39: 0 | O39: 0 | P39: 0 | Q39: 0 | R39: 0 | S39: 0 | T39: 2 | U39: 2 | V39: 36 | W39: 24 | X39: 8 | Y39: 36 | Z39: 24 | AA39: 3 | AB39: 3 | AC39: 3 | AD39: 0 | AE39: 0 | AF39: 0 | AG39: 0 | AH39: 0 | AI39: 0 | AJ39: 1 | AK39: 1 | AL39: 2 | AM39: 3 | AN39: 2 | AO39: 2 | AP39: 1 | AQ39: =+SUM(M39:AP39) -> 153
A40: 32 | D40: YANACUE | E40: 213670000986 | F40: 7.2128772 | G40: -74.057547 | H40: Rural | I40: Mañana | L40: 15 | M40: {=+TRANSPOSE(AH112:AH140)} -> 0 | N40: 0 | O40: 0 | P40: 0 | Q40: 0 | R40: 0 | S40: 0 | T40: 1 | U40: 1 | V40: 24 | W40: 12 | X40: 2 | Y40: 15 | Z40: 15 | AA40: 1 | AB40: 1 | AC40: 1 | AD40: 0 | AE40: 0 | AF40: 0 | AG40: 0 | AH40: 0 | AI40: 0 | AJ40: 1 | AK40: 0 | AL40: 0 | AM40: 0 | AN40: 0 | AO40: 1 | AP40: 1 | AQ40: =+SUM(M40:AP40) -> 76
A41: SUBTOTAL | L41: =SUM(L23:L40) -> 586 | M41: =SUM(M23:M40) -> 8 | N41: =SUM(N23:N40) -> 8 | O41: =SUM(O23:O40) -> 14 | P41: =SUM(P23:P40) -> 16 | Q41: =SUM(Q23:Q40) -> 15 | R41: =SUM(R23:R40) -> 15 | S41: =SUM(S23:S40) -> 9 | ... AP41: =SUM(AP23:AP40) -> 14
A42: 33 | B42: I.E. MONTERREY | C42: 213744001238 | D42: =+AI111 -> SEDE PRINCIPAL | E42: 213744001238 | F42: 7.73917 | G42: -74.011144 | H42: Rural | I42: Mañana / Nocturna | L42: 303 | M42: {=+TRANSPOSE(AI112:AI140)} -> 1 | N42: 1 | O42: 1 | P42: 1 | Q42: 2 | R42: 2 | S42: 2 | T42: 2 | U42: 2 | V42: 24 | W42: 48 | X42: 30 | Y42: 36 | Z42: 24 | AA42: 5 | AB42: 5 | AC42: 5 | AD42: 5 | AE42: 5 | AF42: 5 | AG42: 5 | AH42: 5 | AI42: 5 | AJ42: 4 | AK42: 3 | AL42: 2 | AM42: 4 | AN42: 2 | AO42: 2 | AP42: 1 | AQ42: =+SUM(M42:AP42) -> 239
A43: 34 | D43: =+AJ111 -> TIGUI BAJO | E43: 213744001815 | F43: 7.7538703 | G43: -74.089597 | H43: Rural | I43: Mañana / Nocturna | L43: 14 | M43: {=+TRANSPOSE(AJ112:AJ140)} -> 0 | N43: 0 | O43: 0 | P43: 0 | Q43: 0 | R43: 0 | S43: 0 | T43: 1 | U43: 1 | V43: 24 | W43: 12 | X43: 2 | Y43: 14 | Z43: 14 | AA43: 1 | AB43: 1 | AC43: 1 | AD43: 0 | AE43: 0 | AF43: 0 | AG43: 0 | AH43: 0 | AI43: 0 | AJ43: 1 | AK43: 0 | AL43: 0 | AM43: 0 | AN43: 0 | AO43: 1 | AP43: 1 | AQ43: =+SUM(M43:AP43) -> 74
...

Sheet ESTU MER DEPORT
E1: FORTALECIMIENTO INTEGRAL DE LA ACTIVIDAD FÍSICA, RECREACIÓN Y EL DEPORTE A TRAVÉS DE LA DOTACIÓN DE IMPLEMENTOS DEPORTIVOS Y PARQUES INFANTILES EN INSTITUCIONES EDUCATIVAS DE LOS MUNICIPIOS PDET DEL SUR DEL DEPARTAMENTO DE BOLÍVAR
B5: ITEM | C5: 0.19 | D5: Orbisport | F5: Winner | H5: Olimpico | J5: Promedios | K5: Pro. Total
C6: UNIDAD | D6: Vr. Unitario Iva Incluido | E6: Vr. Total | F6: Vr. Unitario Iva Incluido | G6: Vr. Total | H6: Vr. Unitario Iva Incluido | I6: Vr. Total | J6: Pro. Unitario
B7: =+'DIAG CONSOLIDADO'!B112 -> Cancha Multifuncional (Juego x 2) | C7: =+'DIAG CONSOLIDADO'!CO112 -> 29 | D7: 5878106.7 | E7: =D7*C7 -> 1.7046509e+08 | F7: 6172012 | G7: =F7*C7 -> 1.7898835e+08 | H7: 6063267 | I7: =H7*C7 -> 1.7583474e+08 | J7: =AVERAGE(D7,F7,H7) -> 6037795.3 | K7: =+AVERAGE(E7,G7,I7) -> 1.7509606e+08
B8: =+'DIAG CONSOLIDADO'!B113 -> Juego X 2 Malla Futsala | C8: =+'DIAG CONSOLIDADO'!CO113 -> 31 | D8: 508854.79 | E8: =D8*C8 -> 15774498 | F8: 534297 | G8: =F8*C8 -> 16563207 | H8: 524883.72 | I8: =H8*C8 -> 16271395 | J8: =AVERAGE(D8,F8,H8) -> 522678.5 | K8: =+AVERAGE(E8,G8,I8) -> 16203034
B9: =+'DIAG CONSOLIDADO'!B114 -> Tablero Acrílico Baloncesto x2 | C9: =+'DIAG CONSOLIDADO'!CO114 -> 37 | D9: 1292970.9 | E9: =D9*C9 -> 47839924 | F9: 1357619.5 | G9: =F9*C9 -> 50231921 | H9: 1333699.5 | I9: =H9*C9 -> 49346882 | J9: =AVERAGE(D9,F9,H9) -> 1328096.6 | K9: =+AVERAGE(E9,G9,I9) -> 49139576
B10: =+'DIAG CONSOLIDADO'!B115 -> Aro metálico en Varilla 45 cm | C10: =+'DIAG CONSOLIDADO'!CO115 -> 51 | D10: 248514.36 | E10: =D10*C10 -> 12674232 | F10: 260940.08 | G10: =F10*C10 -> 13307944 | H10: 256342.56 | I10: =H10*C10 -> 13073471 | J10: =AVERAGE(D10,F10,H10) -> 255265.67 | K10: =+AVERAGE(E10,G10,I10) -> 13018549
B11: =+'DIAG CONSOLIDADO'!B116 -> Malla Baloncesto | C11: =+'DIAG CONSOLIDADO'!CO116 -> 55 | D11: 107539.48 | E11: =D11*C11 -> 5914671.4 | F11: 112916.45 | G11: =F11*C11 -> 6210404.8 | H11: 110926.97 | I11: =H11*C11 -> 6100983.3 | J11: =AVERAGE(D11,F11,H11) -> 110460.97 | K11: =+AVERAGE(E11,G11,I11) -> 6075353.2
B12: =+'DIAG CONSOLIDADO'!B117 -> Tubos con Medidas Reglamentarias para Voleibol (x2) | C12: =+'DIAG CONSOLIDADO'!CO117 -> 40 | D12: 904924 | E12: =D12*C12 -> 36196960 | F12: 790000 | G12: =F12*C12 -> 31600000 | H12: 1032373 | I12: =H12*C12 -> 41294920 | J12: =AVERAGE(D12,F12,H12) -> 909099 | K12: =+AVERAGE(E12,G12,I12) -> 36363960
B13: =+'DIAG CONSOLIDADO'!B118 -> Malla Voleibol | C13: =+'DIAG CONSOLIDADO'!CO118 -> 34 | D13: 405899 | E13: =D13*C13 -> 13800566 | F13: 426193.95 | G13: =F13*C13 -> 14490594 | H13: 418684.82 | I13: =H13*C13 -> 14235284 | J13: =AVERAGE(D13,F13,H13) -> 416925.92 | K13: =+AVERAGE(E13,G13,I13) -> 14175481
B14: =+'DIAG CONSOLIDADO'!B119 -> Pito Plástico Tipo Silbato | C14: =+'DIAG CONSOLIDADO'!CO119 -> 111 | D14: 19272 | E14: =D14*C14 -> 2139192 | F14: 20235.6 | G14: =F14*C14 -> 2246151.6 | H14: 19879.07 | I14: =H14*C14 -> 2206576.8 | J14: =AVERAGE(D14,F14,H14) -> 19795.557 | K14: =+AVERAGE(E14,G14,I14) -> 2197306.8
B15: =+'DIAG CONSOLIDADO'!B120 -> Cronometro Digital Electrónico m025 | C15: =+'DIAG CONSOLIDADO'!CO120 -> 109 | D15: 149940 | E15: =D15*C15 -> 16343460 | F15: 157437 | G15: =F15*C15 -> 17160633 | H15: 154663.11 | I15: =H15*C15 -> 16858279 | J15: =AVERAGE(D15,F15,H15) -> 154013.37 | K15: =+AVERAGE(E15,G15,I15) -> 16787457
B16: =+'DIAG CONSOLIDADO'!B121 -> Conos Plásticos 40 cm | C16: =+'DIAG CONSOLIDADO'!CO121 -> 2352 | D16: 14009 | E16: =D16*C16 -> 32949168 | F16: 14709.45 | G16: =F16*C16 -> 34596626 | H16: 14450.28 | I16: =H16*C16 -> 33987059 | J16: =AVERAGE(D16,F16,H16) -> 14389.577 | K16: =+AVERAGE(E16,G16,I16) -> 33844284
B17: =+'DIAG CONSOLIDADO'!B122 -> Chaleco de Entrenamiento (Tipo Peto) | C17: =+'DIAG CONSOLIDADO'!CO122 -> 1472 | D17: 49527 | E17: =D17*C17 -> 72903744 | F17: 52003.35 | G17: =F17*C17 -> 76548931 | H17: 51087.1 | I17: =H17*C17 -> 75200211 | J17: =AVERAGE(D17,F17,H17) -> 50872.483 | K17: =+AVERAGE(E17,G17,I17) -> 74884295
B18: =+'DIAG CONSOLIDADO'!B123 -> (paqu x 12) Ula Ula Plano en Plástico 50 cm | C18: =+'DIAG CONSOLIDADO'!CO123 -> 415 | D18: 109236.5 | E18: =D18*C18 -> 45333148 | F18: 114698.33 | G18: =F18*C18 -> 47599807 | H18: 112677.45 | I18: =H18*C18 -> 46761142 | J18: =AVERAGE(D18,F18,H18) -> 112204.09 | K18: =+AVERAGE(E18,G18,I18) -> 46564699
... B35: =+'DIAG CONSOLIDADO'!B140 -> Marcador de Resultados Portatíl del 00 al 33 | C35: =+'DIAG CONSOLIDADO'!CO140 -> 100 | D35: 280000 | E35: =D35*C35 -> 28000000 | F35: 310000 | G35: =F35*C35 -> 31000000 | H35: 305000 | I35: =H35*C35 -> 30500000 | J35: =AVERAGE(D35,F35,H35) -> 298333.33 | K35: =+AVERAGE(E35,G35,I35) -> 29833333
B36: =+'DIAG CONSOLIDADO'!B141 -> Parques infantiles | C36: =+'DIAG CONSOLIDADO'!CO141 -> 70 | K36: =SUM(K7:K35) -> 1.1987489e+09
B37: TOTAL DE IMPLEMENTOS DOTAR | C37: =SUM(C7:C36) -> 9723

Sheet ESTU MER PARQUES
I1: FORTALECIMIENTO INTEGRAL DE LA ACTIVIDAD FÍSICA, RECREACIÓN Y EL DEPORTE A TRAVÉS DE LA DOTACIÓN DE IMPLEMENTOS DEPORTIVOS Y PARQUES INFANTILES EN INSTITUCIONES EDUCATIVAS DE LOS MUNICIPIOS PDET DEL SUR DEL DEPARTAMENTO DE BOLÍVAR
C6: ESTUDIO DE MERCADO DOTACIÓN E INSTALACIÓN DE PARQUES INFANTILES
C8: PROYECTO: | E8: FORTALECIMIENTO INTEGRAL DE LA ACTIVIDAD FÍSICA, RECREACIÓN Y EL DEPORTE A TRAVÉS DE LA DOTACIÓN DE IMPLEMENTOS DEPORTIVOS Y PARQUES INFANTILES EN INSTITUCIONES EDUCATIVAS DE LOS MUNICIPIOS PDET DEL SUR DEL DEPARTAMENTO DE BOLÍVAR
C9: ENTIDAD: | E9: GOBERNACIÓN DE BOLÍVAR | R9: FECHA | S9: 45636
C10: ITEM PRESUP | D10: DESCRIPCION | E10: CANT | F10: PRECIO PROMEDIO ENTRE PRECIOS DE LA REGION
F11: ALMADERAS S.A.S. | J11: COMERCIALIZADOA GRANADA S.A.S. | N11: COLOMBIA PARQUES S.A.S. | R11: VALOR PROMEDIO UNITARIO (IVA INCLUIDO) | S11: VALOR TOTAL PROMEDIO (IVA INCLUIDO)
F12: VALOR UNITARIO | G12: IVA 19% | H12: VALOR UNITARIO + IVA INCLUIDO | I12: V/R TOTAL | J12: VALOR UNITARIO | K12: IVA 19% | L12: VALOR UNITARIO + IVA INCLUIDO | M12: V/R TOTAL | N12: VALOR UNITARIO | O12: IVA 19% | P12: VALOR UNITARIO + IVA INCLUIDO | Q12: V/R TOTAL
C13: 31 | D13: PARQUES INFANTILES | E13: 70 | F13: =H13/1.19 -> 13361345 | G13: =H13-F13 -> 2538655.5 | H13: 15900000 | I13: =H13*E13 -> 1113000000 | J13: =L13/1.19 -> 14029412 | K13: =L13-J13 -> 2665588.2 | L13: 16695000 | M13: =E13*L13 -> 1168650000 | N13: =P13/1.19 -> 13782227 | O13: =P13-N13 -> 2618623.1 | P13: 16400850 | Q13: =P13*E13 -> 1148059500 | R13: =+AVERAGE(H13,L13,P13) -> 16331950 | S13: =+R13*E13 -> 1143236500
C14: TOTAL | I14: =I13 -> 1113000000 | M14: =M13 -> 1168650000 | Q14: =Q13 -> 1148059500 | S14: =+S13 -> 1143236500

Sheet OFERTA ECONOMICA
A1: OFERTA ECONOMICA
A2: FORTALECIMIENTO INTEGRAL DE LA ACTIVIDAD FÍSICA, RECREACIÓN Y EL DEPORTE A TRAVÉS DE LA DOTACIÓN DE IMPLEMENTOS DEPORTIVOS Y PARQUES INFANTILES EN INSTITUCIONES EDUCATIVAS DE LOS MUNICIPIOS PDET DEL SUR DEL DEPARTAMENTO DE BOLÍVAR
A3: ITEM | B3: DESCRIPCIÓN | C3: UND | D3: CANT | E3: PRECIO TECHO UNITARIO (INCLUYE IVA / NO SE PUEDE MODIFICAR) | F3: PRECIOS OFERTA ECONÓMICA
F4: VR/UNT | G4: VALOR TOTAL
A5: 1. Costos Directos Dotación
A6: 1.1 | B6: Cancha Multifuncional (Juego x 2) | C6: UND | D6: 29 | E6: 6037795.3 | G6: =D6*F6 -> 0
A7: 1.2 | B7: Juego X 2 Malla Futsala | C7: UND | D7: 31 | E7: 522678.5 | G7: =D7*F7 -> 0
A8: 1.3 | B8: Tablero Acrílico Baloncesto x2 | C8: UND | D8: 37 | E8: 1328096.6 | G8: =D8*F8 -> 0
A9: 1.4 | B9: Aro metálico en Varilla 45 cm | C9: UND | D9: 51 | E9: 255265.67 | G9: =D9*F9 -> 0
A10: 1.5 | B10: Malla Baloncesto | C10: UND | D10: 55 | E10: 110460.97 | G10: =D10*F10 -> 0
A11: 1.6 | B11: Tubos con Medidas Reglamentarias para Voleibol (x2) | C11: UND | D11: 40 | E11: 909099 | G11: =D11*F11 -> 0
A12: 1.7 | B12: Malla Voleibol | C12: UND | D12: 34 | E12: 416925.92 | G12: =D12*F12 -> 0
A13: 1.8 | B13: Pito Plástico Tipo Silbato | C13: UND | D13: 111 | E13: 19795.557 | G13: =D13*F13 -> 0
A14: 1.9 | B14: Cronometro Digital Electrónico m025 | C14: UND | D14: 109 | E14: 154013.37 | G14: =D14*F14 -> 0
A15: 1.10 | B15: Conos Plásticos 40 cm | C15: UND | D15: 2352 | E15: 14389.577 | G15: =D15*F15 -> 0
A16: 1.11 | B16: Chaleco de Entrenamiento (Tipo Peto) | C16: UND | D16: 1472 | E16: 50872.483 | G16: =D16*F16 -> 0
A17: 1.12 | B17: (paqu x 12) Ula Ula Plano en Plástico 50 cm | C17: UND | D17: 415 | E17: 112204.09 | G17: =D17*F17 -> 0
... A35: 1.30 | B35: Parques infantiles | C35: UND | D35: 70 | E35: 16331950 | G35: =D35*F35 -> 0
A36: Total Costos Directos Implementos a dotar | G36: =SUM(G6:G35) -> 0
A37: IVA 19% (Se desagrega ya que los precios tienen iva incluido) | G37: =G36-(G36/1.19) -> 0
A38: SUB TOTAL IMPLEMENTOS DEPORTIVOS | G38: =+G36 -> 0
A39: 2. Costos Directos Formación Docente
A40: 2.1 | B40: Realizar FORMACIÓN DOCENTE EN ÁREAS DE RECREACIÓN, DEPORTE S Y AFINES | C40: UND | D40: 90 | E40: 2594047.7 | G40: =D40*F40 -> 0
A41: SUBTOTAL FORMACIÓN DOCENTE | G41: =+G40 -> 0
A43: 3. Costos Directos Transporte a cada sede
A44: 3.1 | B44: TRANSPORTE | C44: UND | D44: 90 | E44: 1000000 | G44: =D44*F44 -> 0
A45: SUBTOTAL TRANSPORTE | G45: =+G44 -> 0
A46: COSTO DIRECTO DEL PROYECTO | G46: =+G38+G41+G45 -> 0
